BEGIN:VCALENDAR
VERSION:2.0
PRODID:-//ChamberMaster//Event Calendar 2.0//EN
METHOD:PUBLISH
X-PUBLISHED-TTL:P3D
REFRESH-INTERVAL:P3D
CALSCALE:GREGORIAN
BEGIN:VEVENT
DTSTART:20140312T163000Z
DTEND:20140312T183000Z
X-MICROSOFT-CDO-ALLDAYEVENT:FALSE
SUMMARY:OH: Foxworth Chiropractic
DESCRIPTION:OPEN HOUSE for Foxworth Chiropractic\n\n2470 Flowood Dr\, Suite 125\, Flowood\n\n (601) 932-9201\n\nwww.drfoxworth.com
X-ALT-DESC;FMTTYPE=text/html:OPEN HOUSE for Foxworth Chiropractic<br />\n2470 Flowood Dr\, Suite 125\, Flowood<br />\n&#8203\;(601) 932-9201<br />\nwww.drfoxworth.com<br />\n&nbsp\;
LOCATION:
UID:e.1412.613
SEQUENCE:3
DTSTAMP:20260422T155330Z
URL:https://business.rankinchamber.com/events/details/oh-foxworth-chiropractic-03-12-2014-613
END:VEVENT

END:VCALENDAR
