BEGIN:VCALENDAR
VERSION:2.0
PRODID:-//ChamberMaster//Event Calendar 2.0//EN
METHOD:PUBLISH
X-PUBLISHED-TTL:P3D
REFRESH-INTERVAL:P3D
CALSCALE:GREGORIAN
BEGIN:VEVENT
DTSTART:20130801T210000Z
DTEND:20130801T220000Z
X-MICROSOFT-CDO-ALLDAYEVENT:FALSE
SUMMARY:OH: Hospice Advantage
DESCRIPTION:Open House: Hospice Advantage (1865 Lakeland Dr\, Jackson)
X-ALT-DESC;FMTTYPE=text/html:Open House: Hospice Advantage (1865 Lakeland Dr\, Jackson)
LOCATION:
UID:e.1412.438
SEQUENCE:3
DTSTAMP:20260423T031347Z
URL:https://business.rankinchamber.com/events/details/oh-hospice-advantage-08-01-2013-438
END:VEVENT

END:VCALENDAR
