BEGIN:VCALENDAR
VERSION:2.0
PRODID:-//ChamberMaster//Event Calendar 2.0//EN
METHOD:PUBLISH
X-PUBLISHED-TTL:P3D
REFRESH-INTERVAL:P3D
CALSCALE:GREGORIAN
BEGIN:VEVENT
DTSTART:20131119T150000Z
DTEND:20131119T160000Z
X-MICROSOFT-CDO-ALLDAYEVENT:FALSE
SUMMARY:OH: McClain Lodge & Heart of Pines
DESCRIPTION:OH: McClain Lodge & Heart of Pines (214 Clark Creek Rd\, Brandon 39047)
X-ALT-DESC;FMTTYPE=text/html:OH: McClain Lodge &amp\; Heart of Pines (214 Clark Creek Rd\, Brandon 39047)
LOCATION:
UID:e.1412.525
SEQUENCE:3
DTSTAMP:20260422T220440Z
URL:https://business.rankinchamber.com/events/details/oh-mcclain-lodge-heart-of-pines-11-19-2013-525
END:VEVENT

END:VCALENDAR
