BEGIN:VCALENDAR
VERSION:2.0
PRODID:-//ChamberMaster//Event Calendar 2.0//EN
METHOD:PUBLISH
X-PUBLISHED-TTL:P3D
REFRESH-INTERVAL:P3D
CALSCALE:GREGORIAN
BEGIN:VEVENT
DTSTART:20130917T210000Z
DTEND:20130917T220000Z
X-MICROSOFT-CDO-ALLDAYEVENT:FALSE
SUMMARY:OH: Methodist Rehab Center
DESCRIPTION:OH: Methodist Rehab Center (One Layfair Drive\, Ste 110\, Flowood)
X-ALT-DESC;FMTTYPE=text/html:OH: Methodist Rehab Center (One Layfair&nbsp\;Drive\, Ste 110\, Flowood)
LOCATION:
UID:e.1412.474
SEQUENCE:3
DTSTAMP:20260423T013831Z
URL:https://business.rankinchamber.com/events/details/oh-methodist-rehab-center-09-17-2013-474
END:VEVENT

END:VCALENDAR
