BEGIN:VCALENDAR
VERSION:2.0
PRODID:-//ChamberMaster//Event Calendar 2.0//EN
METHOD:PUBLISH
X-PUBLISHED-TTL:P3D
REFRESH-INTERVAL:P3D
CALSCALE:GREGORIAN
BEGIN:VEVENT
DTSTART:20130917T220000Z
DTEND:20130917T230000Z
X-MICROSOFT-CDO-ALLDAYEVENT:FALSE
SUMMARY:OH: The Mustard Seed
DESCRIPTION:OH: The Mustard Seed (1085 Luckney Road\, Brandon)
X-ALT-DESC;FMTTYPE=text/html:OH: The Mustard Seed (1085 Luckney&nbsp\;Road\, Brandon)
LOCATION:
UID:e.1412.475
SEQUENCE:3
DTSTAMP:20260423T013655Z
URL:https://business.rankinchamber.com/events/details/oh-the-mustard-seed-09-17-2013-475
END:VEVENT

END:VCALENDAR
