BEGIN:VCALENDAR
VERSION:2.0
PRODID:-//ChamberMaster//Event Calendar 2.0//EN
METHOD:PUBLISH
X-PUBLISHED-TTL:P3D
REFRESH-INTERVAL:P3D
CALSCALE:GREGORIAN
BEGIN:VEVENT
DTSTART:20150122T160000Z
DTEND:20150122T163000Z
X-MICROSOFT-CDO-ALLDAYEVENT:FALSE
SUMMARY:(Postponed) RC: Southern Electric
DESCRIPTION:RC: Southern Electric (4373 Mangum Dr\, Flowood)
X-ALT-DESC;FMTTYPE=text/html:RC: Southern Electric (4373 Mangum Dr\, Flowood)
LOCATION:
UID:e.1412.799
SEQUENCE:3
DTSTAMP:20260421T234633Z
URL:https://business.rankinchamber.com/events/details/postponed-rc-southern-electric-01-22-2015-799
END:VEVENT

END:VCALENDAR
