BEGIN:VCALENDAR
VERSION:2.0
PRODID:-//ChamberMaster//Event Calendar 2.0//EN
METHOD:PUBLISH
X-PUBLISHED-TTL:P3D
REFRESH-INTERVAL:P3D
CALSCALE:GREGORIAN
BEGIN:VEVENT
DTSTART;VALUE=DATE:20150216
DTEND;VALUE=DATE:20150217
TRANSP:TRANSPARENT
X-MICROSOFT-CDO-ALLDAYEVENT:TRUE
SUMMARY:Presidents Day (Chamber closed)
DESCRIPTION:Presidents Day (Chamber closed)
X-ALT-DESC;FMTTYPE=text/html:Presidents Day (Chamber closed)
LOCATION:
UID:e.1412.1878
SEQUENCE:3
DTSTAMP:20260421T221119Z
URL:https://business.rankinchamber.com/events/details/presidents-day-chamber-closed-02-16-2015-1878
END:VEVENT

END:VCALENDAR
