BEGIN:VCALENDAR
VERSION:2.0
PRODID:-//ChamberMaster//Event Calendar 2.0//EN
METHOD:PUBLISH
X-PUBLISHED-TTL:P3D
REFRESH-INTERVAL:P3D
CALSCALE:GREGORIAN
BEGIN:VEVENT
DTSTART;VALUE=DATE:20150116
DTEND;VALUE=DATE:20150117
TRANSP:TRANSPARENT
X-MICROSOFT-CDO-ALLDAYEVENT:TRUE
SUMMARY:Project Impact
DESCRIPTION:Project Impact (State Government Day)
X-ALT-DESC;FMTTYPE=text/html:Project Impact (State Government Day)
LOCATION:
UID:e.1412.792
SEQUENCE:3
DTSTAMP:20260421T233643Z
URL:https://business.rankinchamber.com/events/details/project-impact-01-16-2015-792
END:VEVENT

END:VCALENDAR
