BEGIN:VCALENDAR
VERSION:2.0
PRODID:-//ChamberMaster//Event Calendar 2.0//EN
METHOD:PUBLISH
X-PUBLISHED-TTL:P3D
REFRESH-INTERVAL:P3D
CALSCALE:GREGORIAN
BEGIN:VEVENT
DTSTART;VALUE=DATE:20141003
DTEND;VALUE=DATE:20141004
TRANSP:TRANSPARENT
X-MICROSOFT-CDO-ALLDAYEVENT:TRUE
SUMMARY:Project Impact Retreat
DESCRIPTION:Project Impact Retreat (Twin Lakes)
X-ALT-DESC;FMTTYPE=text/html:Project Impact Retreat (Twin Lakes)
LOCATION:
UID:e.1412.716
SEQUENCE:3
DTSTAMP:20260422T042507Z
URL:https://business.rankinchamber.com/events/details/project-impact-retreat-10-03-2014-716
END:VEVENT

END:VCALENDAR
