BEGIN:VCALENDAR
VERSION:2.0
PRODID:-//ChamberMaster//Event Calendar 2.0//EN
METHOD:PUBLISH
X-PUBLISHED-TTL:P3D
REFRESH-INTERVAL:P3D
CALSCALE:GREGORIAN
BEGIN:VEVENT
DTSTART;VALUE=DATE:20150422
DTEND;VALUE=DATE:20150423
TRANSP:TRANSPARENT
X-MICROSOFT-CDO-ALLDAYEVENT:TRUE
SUMMARY:Purses & Pearls
DESCRIPTION:Purses & Pearls (Muse Center\, 515 Country Place Pkway\, Pearl) Doors open at 10:30 am for vendor shopping before and after the event.
X-ALT-DESC;FMTTYPE=text/html:Purses &amp\; Pearls (Muse Center\, 515 Country Place Pkway\, Pearl) Doors open at 10:30 am for vendor shopping before and after the event.
LOCATION:
UID:e.1412.1915
SEQUENCE:3
DTSTAMP:20260421T185102Z
URL:https://business.rankinchamber.com/events/details/purses-pearls-04-22-2015-1915
END:VEVENT

END:VCALENDAR
