BEGIN:VCALENDAR
VERSION:2.0
PRODID:-//ChamberMaster//Event Calendar 2.0//EN
METHOD:PUBLISH
X-PUBLISHED-TTL:P3D
REFRESH-INTERVAL:P3D
CALSCALE:GREGORIAN
BEGIN:VEVENT
DTSTART:20140423T160000Z
DTEND:20140423T180000Z
X-MICROSOFT-CDO-ALLDAYEVENT:FALSE
SUMMARY:Purses & Pearls
DESCRIPTION:Purses & Pearls (Clyde Muse Center at Hinds Community College-Rankin Campus)\n\n\n\nDownload registration form:\n\nAttendee Registration form (pdf)
X-ALT-DESC;FMTTYPE=text/html:Purses &amp\; Pearls (Clyde Muse Center at Hinds Community College-Rankin Campus)<br />\n<br />\nDownload registration form:<br />\n<strong><a href="http://origin.library.constantcontact.com/download/get/file/1109244199222-671/Purses-Pearls-reg-ATTENDEE.pdf">Attendee Registration form (pdf)</a></strong>
LOCATION:
UID:e.1412.626
SEQUENCE:3
DTSTAMP:20260422T135041Z
URL:https://business.rankinchamber.com/events/details/purses-pearls-04-23-2014-626
END:VEVENT

END:VCALENDAR
