BEGIN:VCALENDAR
VERSION:2.0
PRODID:-//ChamberMaster//Event Calendar 2.0//EN
METHOD:PUBLISH
X-PUBLISHED-TTL:P3D
REFRESH-INTERVAL:P3D
CALSCALE:GREGORIAN
BEGIN:VEVENT
DTSTART:20131202T220000Z
DTEND:20131203T000000Z
X-MICROSOFT-CDO-ALLDAYEVENT:FALSE
SUMMARY:Rankin Chamber Christmas Open House
DESCRIPTION:Rankin Chamber Christmas Open House (101 Service Drive\, Brandon)
X-ALT-DESC;FMTTYPE=text/html:Rankin Chamber Christmas Open House (101 Service Drive\, Brandon)
LOCATION:
UID:e.1412.531
SEQUENCE:3
DTSTAMP:20260422T203037Z
URL:https://business.rankinchamber.com/events/details/rankin-chamber-christmas-open-house-12-02-2013-531
END:VEVENT

END:VCALENDAR
