BEGIN:VCALENDAR
VERSION:2.0
PRODID:-//ChamberMaster//Event Calendar 2.0//EN
METHOD:PUBLISH
X-PUBLISHED-TTL:P3D
REFRESH-INTERVAL:P3D
CALSCALE:GREGORIAN
BEGIN:VEVENT
DTSTART:20150218T150000Z
DTEND:20150218T180000Z
X-MICROSOFT-CDO-ALLDAYEVENT:FALSE
SUMMARY:Rankin County Community Health Fair
DESCRIPTION:Rankin County Community Health Fair\n\nWedneday\, February 18\, 2015\n\n9:00 am - Noon\n\n\n\nBrandon Civic Center   (Brandon City Hall Building)\n\n1000 Municipal Drive\, Brandon\n\n\n\n- Free to the Public\n\n- Free Health Screenings\n\n- Healthy Eating Information\n\n- Informative Workshops\n\n- Local Health Organization Exhibits\n\n- Free Lunch & door prize drawings\n\n   (must arrive by 10:30 am to receive free lunch ticket)\n\n\n\nHealth Fair Flyer (pdf)\n\n\n\nHealth Fair Vendor Registration Form
X-ALT-DESC;FMTTYPE=text/html:<p>Rankin County Community Health Fair<br />\nWedneday\, February 18\, 2015<br />\n9:00 am - Noon<br />\n<br />\nBrandon Civic Center &nbsp\; (Brandon City Hall Building)<br />\n1000 Municipal Drive\, Brandon<br />\n<br />\n- Free to the Public<br />\n- Free Health Screenings<br />\n- Healthy Eating Information<br />\n- Informative Workshops<br />\n- Local Health Organization Exhibits<br />\n- Free Lunch &amp\; door prize drawings<br />\n&nbsp\;&nbsp\;&nbsp\;(must arrive by 10:30 am to receive free lunch ticket)<br />\n<br />\n<strong><a href="http://cloud.chambermaster.com/userfiles/UserFiles/chambers/1412/File/Health-Fair-flyer.pdf" style="line-height: 20.7999992370605px\;"><span style="color:#0000CD\;">Health Fair Flyer (pdf)</span></a></strong><br />\n<br />\n<strong><a href="http://cloud.chambermaster.com/userfiles/UserFiles/chambers/1412/File/Health-Fair-reg-form.pdf"><span style="color:#0000CD\;">Health Fair Vendor Registration Form</span></a> </strong><br />\n<br />\n&nbsp\;</p>\n
LOCATION:
UID:e.1412.800
SEQUENCE:3
DTSTAMP:20260421T220741Z
URL:https://business.rankinchamber.com/events/details/rankin-county-community-health-fair-02-18-2015-800
END:VEVENT

END:VCALENDAR
