BEGIN:VCALENDAR
VERSION:2.0
PRODID:-//ChamberMaster//Event Calendar 2.0//EN
METHOD:PUBLISH
X-PUBLISHED-TTL:P3D
REFRESH-INTERVAL:P3D
CALSCALE:GREGORIAN
BEGIN:VEVENT
DTSTART:20120530T140000Z
DTEND:20120530T190000Z
X-MICROSOFT-CDO-ALLDAYEVENT:FALSE
SUMMARY:Rankin County Job Fair
DESCRIPTION:RANKIN COUNTY AREA JOB FAIR\n\nPresented by Governor's Job Fair Network of Mississippi and Rankin County Chamber\n\nTo view the ever-growing list of employers\, please visit online at www.jobfairs.ms.gov\n\n\n\nApplicants are encouraged to "Dress for Success" and bring your resumes!
X-ALT-DESC;FMTTYPE=text/html:<strong>RANKIN COUNTY AREA JOB FAIR</strong><br />\nPresented by Governor&#39\;s Job Fair Network of Mississippi and Rankin County Chamber<br />\nTo view&nbsp\;the ever-growing list of employers\, please visit online at <a href="http://www.jobfairs.ms.gov">www.jobfairs.ms.gov</a><br />\n<br />\nApplicants are encouraged to &quot\;Dress for Success&quot\; and&nbsp\;bring your resumes!
LOCATION:Muse Center at Hinds CC Rankin 3805 Hwy 80 East\, Pearl MS 39208
UID:e.1412.4
SEQUENCE:3
DTSTAMP:20260421T152718Z
URL:https://business.rankinchamber.com/events/details/rankin-county-job-fair-05-30-2012-4
END:VEVENT

END:VCALENDAR
