BEGIN:VCALENDAR
VERSION:2.0
PRODID:-//ChamberMaster//Event Calendar 2.0//EN
METHOD:PUBLISH
X-PUBLISHED-TTL:P3D
REFRESH-INTERVAL:P3D
CALSCALE:GREGORIAN
BEGIN:VEVENT
DTSTART:20140604T140000Z
DTEND:20140604T190000Z
X-MICROSOFT-CDO-ALLDAYEVENT:FALSE
SUMMARY:Rankin County Job Fair
DESCRIPTION:Rankin County Job Fair\n\nMuse Center\, Hinds Community College-Rankin Campus\n\n515 W. Country Place Pkway\, Pearl
X-ALT-DESC;FMTTYPE=text/html:Rankin County Job Fair<br />\nMuse Center\, Hinds Community College-Rankin Campus<br />\n515 W. Country Place Pkway\, Pearl
LOCATION:
UID:e.1412.650
SEQUENCE:3
DTSTAMP:20260422T105443Z
URL:https://business.rankinchamber.com/events/details/rankin-county-job-fair-06-04-2014-650
END:VEVENT

END:VCALENDAR
