BEGIN:VCALENDAR
VERSION:2.0
PRODID:-//ChamberMaster//Event Calendar 2.0//EN
METHOD:PUBLISH
X-PUBLISHED-TTL:P3D
REFRESH-INTERVAL:P3D
CALSCALE:GREGORIAN
BEGIN:VEVENT
DTSTART:20130508T133000Z
DTEND:20130508T180000Z
X-MICROSOFT-CDO-ALLDAYEVENT:FALSE
SUMMARY:Rankin County Seniors Lunch ( Muse Center @ Hinds CC Rankin Campus )
DESCRIPTION:Rankin County Seniors Lunch ( Muse Center @ Hinds CC Rankin Campus )
X-ALT-DESC;FMTTYPE=text/html:Rankin County Seniors Lunch ( Muse Center @ Hinds CC Rankin Campus )
LOCATION:
UID:e.1412.364
SEQUENCE:3
DTSTAMP:20260423T075525Z
URL:https://business.rankinchamber.com/events/details/rankin-county-seniors-lunch-muse-center-hinds-cc-rankin-campus-05-08-2013-364
END:VEVENT

END:VCALENDAR
