BEGIN:VCALENDAR
VERSION:2.0
PRODID:-//ChamberMaster//Event Calendar 2.0//EN
METHOD:PUBLISH
X-PUBLISHED-TTL:P3D
REFRESH-INTERVAL:P3D
CALSCALE:GREGORIAN
BEGIN:VEVENT
DTSTART;VALUE=DATE:20131119
DTEND;VALUE=DATE:20131121
TRANSP:TRANSPARENT
X-MICROSOFT-CDO-ALLDAYEVENT:TRUE
SUMMARY:Rankin Glow Run Packet pickup
DESCRIPTION:Rankin Glow Run packet pickup (Rankin County Chamber\, 101 Service Drive\, Brandon 39042)
X-ALT-DESC;FMTTYPE=text/html:Rankin Glow Run packet pickup (Rankin County Chamber\, 101 Service Drive\, Brandon 39042)
LOCATION:
UID:e.1412.524
SEQUENCE:3
DTSTAMP:20260422T220849Z
URL:https://business.rankinchamber.com/events/details/rankin-glow-run-packet-pickup-11-19-2013-524
END:VEVENT

END:VCALENDAR
