BEGIN:VCALENDAR
VERSION:2.0
PRODID:-//ChamberMaster//Event Calendar 2.0//EN
METHOD:PUBLISH
X-PUBLISHED-TTL:P3D
REFRESH-INTERVAL:P3D
CALSCALE:GREGORIAN
BEGIN:VEVENT
DTSTART;VALUE=DATE:20131112
DTEND;VALUE=DATE:20131113
TRANSP:TRANSPARENT
X-MICROSOFT-CDO-ALLDAYEVENT:TRUE
SUMMARY:Rankin Youth Leadership
DESCRIPTION:Rankin Youth Leadership (Public Safety / Judicial System / Defense day)
X-ALT-DESC;FMTTYPE=text/html:Rankin Youth Leadership (Public Safety / Judicial System / Defense day)
LOCATION:
UID:e.1412.519
SEQUENCE:3
DTSTAMP:20260422T221017Z
URL:https://business.rankinchamber.com/events/details/rankin-youth-leadership-11-12-2013-519
END:VEVENT

END:VCALENDAR
