BEGIN:VCALENDAR
VERSION:2.0
PRODID:-//ChamberMaster//Event Calendar 2.0//EN
METHOD:PUBLISH
X-PUBLISHED-TTL:P3D
REFRESH-INTERVAL:P3D
CALSCALE:GREGORIAN
BEGIN:VEVENT
DTSTART;VALUE=DATE:20130906
DTEND;VALUE=DATE:20130907
TRANSP:TRANSPARENT
X-MICROSOFT-CDO-ALLDAYEVENT:TRUE
SUMMARY:Rankin Youth Leadership application deadline
DESCRIPTION:Rankin Youth Leadership application deadline - 4:00 pm
X-ALT-DESC;FMTTYPE=text/html:Rankin Youth Leadership application deadline - 4:00 pm
LOCATION:
UID:e.1412.465
SEQUENCE:3
DTSTAMP:20260423T014127Z
URL:https://business.rankinchamber.com/events/details/rankin-youth-leadership-application-deadline-09-06-2013-465
END:VEVENT

END:VCALENDAR
