BEGIN:VCALENDAR
VERSION:2.0
PRODID:-//ChamberMaster//Event Calendar 2.0//EN
METHOD:PUBLISH
X-PUBLISHED-TTL:P3D
REFRESH-INTERVAL:P3D
CALSCALE:GREGORIAN
BEGIN:VEVENT
DTSTART;VALUE=DATE:20131003
DTEND;VALUE=DATE:20131004
TRANSP:TRANSPARENT
X-MICROSOFT-CDO-ALLDAYEVENT:TRUE
SUMMARY:Rankin Youth Leadership retreat
DESCRIPTION:Rankin Youth Leadership retreat (Twin Lakes Conference Center\, Florence)
X-ALT-DESC;FMTTYPE=text/html:Rankin Youth Leadership retreat (Twin Lakes Conference Center\, Florence)
LOCATION:
UID:e.1412.488
SEQUENCE:3
DTSTAMP:20260422T233838Z
URL:https://business.rankinchamber.com/events/details/rankin-youth-leadership-retreat-10-03-2013-488
END:VEVENT

END:VCALENDAR
