BEGIN:VCALENDAR
VERSION:2.0
PRODID:-//ChamberMaster//Event Calendar 2.0//EN
METHOD:PUBLISH
X-PUBLISHED-TTL:P3D
REFRESH-INTERVAL:P3D
CALSCALE:GREGORIAN
BEGIN:VEVENT
DTSTART:20141104T163000Z
DTEND:20141104T170000Z
X-MICROSOFT-CDO-ALLDAYEVENT:FALSE
SUMMARY:RC: 360 Office Clean
DESCRIPTION:RC: 360 Office Clean (Rankin Chamber\, 101 Service Drive\, Brandon)
X-ALT-DESC;FMTTYPE=text/html:RC: 360 Office Clean (Rankin Chamber\, 101 Service Drive\, Brandon)
LOCATION:
UID:e.1412.738
SEQUENCE:3
DTSTAMP:20260422T024907Z
URL:https://business.rankinchamber.com/events/details/rc-360-office-clean-11-04-2014-738
END:VEVENT

END:VCALENDAR
