BEGIN:VCALENDAR
VERSION:2.0
PRODID:-//ChamberMaster//Event Calendar 2.0//EN
METHOD:PUBLISH
X-PUBLISHED-TTL:P3D
REFRESH-INTERVAL:P3D
CALSCALE:GREGORIAN
BEGIN:VEVENT
DTSTART:20140107T163000Z
DTEND:20140107T170000Z
X-MICROSOFT-CDO-ALLDAYEVENT:FALSE
SUMMARY:RC: Athenafit Barre Studio
DESCRIPTION:RC: Athenafit Barre Studio (1139 Old Fannin Road\, Suite J Brandon)
X-ALT-DESC;FMTTYPE=text/html:RC: Athenafit Barre Studio (1139 Old Fannin Road\, Suite J Brandon)
LOCATION:
UID:e.1412.558
SEQUENCE:3
DTSTAMP:20260422T184012Z
URL:https://business.rankinchamber.com/events/details/rc-athenafit-barre-studio-01-07-2014-558
END:VEVENT

END:VCALENDAR
