BEGIN:VCALENDAR
VERSION:2.0
PRODID:-//ChamberMaster//Event Calendar 2.0//EN
METHOD:PUBLISH
X-PUBLISHED-TTL:P3D
REFRESH-INTERVAL:P3D
CALSCALE:GREGORIAN
BEGIN:VEVENT
DTSTART:20150302T220000Z
DTEND:20150302T223000Z
X-MICROSOFT-CDO-ALLDAYEVENT:FALSE
SUMMARY:RC: Barnett Reservoir Foundation
DESCRIPTION:RC: Barnett Reservoir Foundation (115 Madison Landing Circle\, Ridgeland)
X-ALT-DESC;FMTTYPE=text/html:RC: Barnett Reservoir Foundation (115 Madison Landing Circle\, Ridgeland)
LOCATION:
UID:e.1412.1890
SEQUENCE:3
DTSTAMP:20260421T202059Z
URL:https://business.rankinchamber.com/events/details/rc-barnett-reservoir-foundation-03-02-2015-1890
END:VEVENT

END:VCALENDAR
