BEGIN:VCALENDAR
VERSION:2.0
PRODID:-//ChamberMaster//Event Calendar 2.0//EN
METHOD:PUBLISH
X-PUBLISHED-TTL:P3D
REFRESH-INTERVAL:P3D
CALSCALE:GREGORIAN
BEGIN:VEVENT
DTSTART:20150406T210000Z
DTEND:20150406T220000Z
X-MICROSOFT-CDO-ALLDAYEVENT:FALSE
SUMMARY:RC: Barnett Reservoir Foundation
DESCRIPTION:RC: Barnett Reservoir Foundation (115 Madison Landing Cir\, \n\nRidgeland)
X-ALT-DESC;FMTTYPE=text/html:RC: Barnett Reservoir Foundation (115 Madison Landing Cir\,&nbsp\;<br />\nRidgeland)
LOCATION:
UID:e.1412.1918
SEQUENCE:3
DTSTAMP:20260421T185507Z
URL:https://business.rankinchamber.com/events/details/rc-barnett-reservoir-foundation-04-06-2015-1918
END:VEVENT

END:VCALENDAR
