BEGIN:VCALENDAR
VERSION:2.0
PRODID:-//ChamberMaster//Event Calendar 2.0//EN
METHOD:PUBLISH
X-PUBLISHED-TTL:P3D
REFRESH-INTERVAL:P3D
CALSCALE:GREGORIAN
BEGIN:VEVENT
DTSTART:20121023T153000Z
DTEND:20121023T160000Z
X-MICROSOFT-CDO-ALLDAYEVENT:FALSE
SUMMARY:RC: Batteries Plus
DESCRIPTION:Ribbon Cutting: Batteries Plus\n\nJoined with the Flowood Chamber!
X-ALT-DESC;FMTTYPE=text/html:Ribbon Cutting: Batteries Plus<br />\nJoined with the Flowood Chamber!&nbsp\;<br />\n
LOCATION:Batteries Plus 381Ridge Way Flowood\, MS 39232
UID:e.1412.250
SEQUENCE:3
DTSTAMP:20260422T073631Z
URL:https://business.rankinchamber.com/events/details/rc-batteries-plus-10-23-2012-250
END:VEVENT

END:VCALENDAR
