BEGIN:VCALENDAR
VERSION:2.0
PRODID:-//ChamberMaster//Event Calendar 2.0//EN
METHOD:PUBLISH
X-PUBLISHED-TTL:P3D
REFRESH-INTERVAL:P3D
CALSCALE:GREGORIAN
BEGIN:VEVENT
DTSTART:20150904T154500Z
DTEND:20150904T161500Z
X-MICROSOFT-CDO-ALLDAYEVENT:FALSE
SUMMARY:RC: Brandon Sporting Arms
DESCRIPTION:RC: Brandon Sporting Arms (1392 W. Government St\, Ste B\, Brandon)
X-ALT-DESC;FMTTYPE=text/html:RC: Brandon Sporting Arms (1392 W. Government St\, Ste B\, Brandon)
LOCATION:
UID:e.1412.1978
SEQUENCE:3
DTSTAMP:20260421T102120Z
URL:https://business.rankinchamber.com/events/details/rc-brandon-sporting-arms-09-04-2015-1978
END:VEVENT

END:VCALENDAR
