BEGIN:VCALENDAR
VERSION:2.0
PRODID:-//ChamberMaster//Event Calendar 2.0//EN
METHOD:PUBLISH
X-PUBLISHED-TTL:P3D
REFRESH-INTERVAL:P3D
CALSCALE:GREGORIAN
BEGIN:VEVENT
DTSTART:20131023T150000Z
DTEND:20131023T160000Z
X-MICROSOFT-CDO-ALLDAYEVENT:FALSE
SUMMARY:RC: Britches & Boots
DESCRIPTION:Ribbon Cutting: Britches & Boots (4237 Lakeland Dr\, Flowood\, MS 39232)
X-ALT-DESC;FMTTYPE=text/html:Ribbon Cutting: Britches &amp\; Boots (<span style="font-family: arial\, sans-serif\; font-size: 12.800000190734863px\; line-height: 12.800000190734863px\;">4237 Lakeland Dr\, Flowood\, MS 39232)</span>
LOCATION:
UID:e.1412.503
SEQUENCE:3
DTSTAMP:20260422T233324Z
URL:https://business.rankinchamber.com/events/details/rc-britches-boots-10-23-2013-503
END:VEVENT

END:VCALENDAR
