BEGIN:VCALENDAR
VERSION:2.0
PRODID:-//ChamberMaster//Event Calendar 2.0//EN
METHOD:PUBLISH
X-PUBLISHED-TTL:P3D
REFRESH-INTERVAL:P3D
CALSCALE:GREGORIAN
BEGIN:VEVENT
DTSTART:20150413T153000Z
DTEND:20150413T160000Z
X-MICROSOFT-CDO-ALLDAYEVENT:FALSE
SUMMARY:RC: Brookdale Brandon
DESCRIPTION:RC: Brookdale Brandon (140 Castlewoods Blvd\, Brandon)
X-ALT-DESC;FMTTYPE=text/html:RC: Brookdale Brandon (140 Castlewoods Blvd\, Brandon)
LOCATION:
UID:e.1412.1908
SEQUENCE:3
DTSTAMP:20260421T185129Z
URL:https://business.rankinchamber.com/events/details/rc-brookdale-brandon-04-13-2015-1908
END:VEVENT

END:VCALENDAR
