BEGIN:VCALENDAR
VERSION:2.0
PRODID:-//ChamberMaster//Event Calendar 2.0//EN
METHOD:PUBLISH
X-PUBLISHED-TTL:P3D
REFRESH-INTERVAL:P3D
CALSCALE:GREGORIAN
BEGIN:VEVENT
DTSTART:20130723T154500Z
DTEND:20130723T161500Z
X-MICROSOFT-CDO-ALLDAYEVENT:FALSE
SUMMARY:RC: Camellia Home Health & Hospice
DESCRIPTION:RC: Camellia Home Health & Hospice\, 225 Katherine Drive\, Flowood\, MS 39232  (near Geiger)
X-ALT-DESC;FMTTYPE=text/html:<div style="color: gray\;">\n	<span style="color: black\; font-family: &quot\;Georgia&quot\;\,&quot\;serif&quot\;\; font-size: 10pt\; mso-fareast-font-family: &quot\;Times New Roman&quot\;\; mso-bidi-font-family: &quot\;Times New Roman&quot\;\; mso-ansi-language: EN-US\; mso-fareast-language: EN-US\; mso-bidi-language: AR-SA\;">RC: Camellia Home Health &amp\; Hospice\, </span><span style="color: black\; font-family: &quot\;Georgia&quot\;\,&quot\;serif&quot\;\; font-size: 10pt\; mso-fareast-font-family: &quot\;Times New Roman&quot\;\; mso-bidi-font-family: &quot\;Times New Roman&quot\;\; mso-ansi-language: EN-US\; mso-fareast-language: EN-US\; mso-bidi-language: AR-SA\;">225 Katherine Drive\,&nbsp\;</span><span style="color: black\; font-family: &quot\;Georgia&quot\;\,&quot\;serif&quot\;\; font-size: 10pt\; mso-fareast-font-family: &quot\;Times New Roman&quot\;\; mso-bidi-font-family: &quot\;Times New Roman&quot\;\; mso-ansi-language: EN-US\; mso-fareast-language: EN-US\; mso-bidi-language: AR-SA\;">Flowood\, MS 39232 </span><span style="color: black\; font-family: &quot\;Georgia&quot\;\,&quot\;serif&quot\;\; font-size: 10pt\; mso-fareast-font-family: &quot\;Times New Roman&quot\;\; mso-bidi-font-family: &quot\;Times New Roman&quot\;\; mso-ansi-language: EN-US\; mso-fareast-language: EN-US\; mso-bidi-language: AR-SA\;">&nbsp\;(near Geiger)</span><br />\n	&nbsp\;</div>\n
LOCATION:
UID:e.1412.433
SEQUENCE:3
DTSTAMP:20260423T044749Z
URL:https://business.rankinchamber.com/events/details/rc-camellia-home-health-hospice-07-23-2013-433
END:VEVENT

END:VCALENDAR
