BEGIN:VCALENDAR
VERSION:2.0
PRODID:-//ChamberMaster//Event Calendar 2.0//EN
METHOD:PUBLISH
X-PUBLISHED-TTL:P3D
REFRESH-INTERVAL:P3D
CALSCALE:GREGORIAN
BEGIN:VEVENT
DTSTART:20141112T170000Z
DTEND:20141112T180000Z
X-MICROSOFT-CDO-ALLDAYEVENT:FALSE
SUMMARY:RC: Candy's Florist & Gifts
DESCRIPTION:RC: Candy's Florist & Gifts (525 Second St\, Pelahatchie)
X-ALT-DESC;FMTTYPE=text/html:RC: Candy&#39\;s Florist &amp\; Gifts (525 Second St\, Pelahatchie)
LOCATION:
UID:e.1412.747
SEQUENCE:3
DTSTAMP:20260422T025649Z
URL:https://business.rankinchamber.com/events/details/rc-candy-s-florist-gifts-11-12-2014-747
END:VEVENT

END:VCALENDAR
