BEGIN:VCALENDAR
VERSION:2.0
PRODID:-//ChamberMaster//Event Calendar 2.0//EN
METHOD:PUBLISH
X-PUBLISHED-TTL:P3D
REFRESH-INTERVAL:P3D
CALSCALE:GREGORIAN
BEGIN:VEVENT
DTSTART:20131024T153000Z
DTEND:20131024T163000Z
X-MICROSOFT-CDO-ALLDAYEVENT:FALSE
SUMMARY:RC: Cassatta's Market & BBQ
DESCRIPTION:Ribbon Cutting:\n\nCassatta's Market & BBQ (5419 Hwy 25\, Flowood)
X-ALT-DESC;FMTTYPE=text/html:Ribbon Cutting:<br />\nCassatta&#39\;s Market &amp\; BBQ (5419 Hwy 25\, Flowood)
LOCATION:
UID:e.1412.504
SEQUENCE:3
DTSTAMP:20260422T233556Z
URL:https://business.rankinchamber.com/events/details/rc-cassatta-s-market-bbq-10-24-2013-504
END:VEVENT

END:VCALENDAR
