BEGIN:VCALENDAR
VERSION:2.0
PRODID:-//ChamberMaster//Event Calendar 2.0//EN
METHOD:PUBLISH
X-PUBLISHED-TTL:P3D
REFRESH-INTERVAL:P3D
CALSCALE:GREGORIAN
BEGIN:VEVENT
DTSTART:20150303T210000Z
DTEND:20150303T220000Z
X-MICROSOFT-CDO-ALLDAYEVENT:FALSE
SUMMARY:RC: Chamber Renovations
DESCRIPTION:RC: Chamber Renovations  (Rankin Chamber\, 101 Service Drive\, Brandon)\n\n\n\n(Spring Open House from 3pm - 6pm)
X-ALT-DESC;FMTTYPE=text/html:RC: Chamber Renovations &nbsp\;(Rankin Chamber\, 101 Service Drive\, Brandon)<br />\n<br />\n(Spring Open House from 3pm - 6pm)
LOCATION:
UID:e.1412.1891
SEQUENCE:3
DTSTAMP:20260421T202006Z
URL:https://business.rankinchamber.com/events/details/rc-chamber-renovations-03-03-2015-1891
END:VEVENT

END:VCALENDAR
