BEGIN:VCALENDAR
VERSION:2.0
PRODID:-//ChamberMaster//Event Calendar 2.0//EN
METHOD:PUBLISH
X-PUBLISHED-TTL:P3D
REFRESH-INTERVAL:P3D
CALSCALE:GREGORIAN
BEGIN:VEVENT
DTSTART:20130905T150000Z
DTEND:20130905T160000Z
X-MICROSOFT-CDO-ALLDAYEVENT:FALSE
SUMMARY:RC: Chapman's Florist
DESCRIPTION:RC: Chapman's Florist (5647 Hwy 80 E\, Suite 6\, Pearl) -Their NEW location-\n\n(same shopping center as Fernando's in Pearl)
X-ALT-DESC;FMTTYPE=text/html:RC: Chapman&#39\;s Florist (5647 Hwy 80 E\, Suite 6\, Pearl) -Their NEW location-<br />\n(same shopping center as Fernando&#39\;s in Pearl)
LOCATION:
UID:e.1412.464
SEQUENCE:3
DTSTAMP:20260423T013923Z
URL:https://business.rankinchamber.com/events/details/rc-chapman-s-florist-09-05-2013-464
END:VEVENT

END:VCALENDAR
