BEGIN:VCALENDAR
VERSION:2.0
PRODID:-//ChamberMaster//Event Calendar 2.0//EN
METHOD:PUBLISH
X-PUBLISHED-TTL:P3D
REFRESH-INTERVAL:P3D
CALSCALE:GREGORIAN
BEGIN:VEVENT
DTSTART:20120626T153000Z
DTEND:20120626T160000Z
X-MICROSOFT-CDO-ALLDAYEVENT:FALSE
SUMMARY:RC: Chick-fil-A of Brandon
DESCRIPTION:Ribbon Cutting for Chick-fil-A of Brandon\n\n	201 Disotell Blvd\, Brandon 39042
X-ALT-DESC;FMTTYPE=text/html:<p>\n	Ribbon Cutting for Chick-fil-A of Brandon<br />\n	201 Disotell Blvd\, Brandon 39042</p>\n
LOCATION:
UID:e.1412.138
SEQUENCE:3
DTSTAMP:20260422T012729Z
URL:https://business.rankinchamber.com/events/details/rc-chick-fil-a-of-brandon-06-26-2012-138
END:VEVENT

END:VCALENDAR
