BEGIN:VCALENDAR
VERSION:2.0
PRODID:-//ChamberMaster//Event Calendar 2.0//EN
METHOD:PUBLISH
X-PUBLISHED-TTL:P3D
REFRESH-INTERVAL:P3D
CALSCALE:GREGORIAN
BEGIN:VEVENT
DTSTART:20140717T150000Z
DTEND:20140717T160000Z
X-MICROSOFT-CDO-ALLDAYEVENT:FALSE
SUMMARY:RC: Complete Insurance & Financial
DESCRIPTION:RC: Complete Insurance & Financial (2855 Hwy 80 E\, Pearl)
X-ALT-DESC;FMTTYPE=text/html:RC: Complete Insurance &amp\; Financial (2855 Hwy 80 E\, Pearl)
LOCATION:
UID:e.1412.667
SEQUENCE:3
DTSTAMP:20260422T092057Z
URL:https://business.rankinchamber.com/events/details/rc-complete-insurance-financial-07-17-2014-667
END:VEVENT

END:VCALENDAR
