BEGIN:VCALENDAR
VERSION:2.0
PRODID:-//ChamberMaster//Event Calendar 2.0//EN
METHOD:PUBLISH
X-PUBLISHED-TTL:P3D
REFRESH-INTERVAL:P3D
CALSCALE:GREGORIAN
BEGIN:VEVENT
DTSTART:20150115T163000Z
DTEND:20150115T170000Z
X-MICROSOFT-CDO-ALLDAYEVENT:FALSE
SUMMARY:RC: Country Boy's Farm and Hardware
DESCRIPTION:RC: Country Boy's Farm and Hardware (401 Hwy 43 S\, Pelahatchie)
X-ALT-DESC;FMTTYPE=text/html:RC: Country Boy&#39\;s Farm and Hardware (401 Hwy 43 S\, Pelahatchie)
LOCATION:
UID:e.1412.791
SEQUENCE:3
DTSTAMP:20260422T012815Z
URL:https://business.rankinchamber.com/events/details/rc-country-boy-s-farm-and-hardware-01-15-2015-791
END:VEVENT

END:VCALENDAR
