BEGIN:VCALENDAR
VERSION:2.0
PRODID:-//ChamberMaster//Event Calendar 2.0//EN
METHOD:PUBLISH
X-PUBLISHED-TTL:P3D
REFRESH-INTERVAL:P3D
CALSCALE:GREGORIAN
BEGIN:VEVENT
DTSTART:20141029T160000Z
DTEND:20141029T163000Z
X-MICROSOFT-CDO-ALLDAYEVENT:FALSE
SUMMARY:RC: Courtyard Marriott
DESCRIPTION:RC: Courtyard by Marriott Jackson Airport/Pearl (415 Riverwind Dr\, Pearl)
X-ALT-DESC;FMTTYPE=text/html:RC: Courtyard by Marriott Jackson Airport/Pearl (415 Riverwind Dr\, Pearl)
LOCATION:
UID:e.1412.732
SEQUENCE:3
DTSTAMP:20260422T042159Z
URL:https://business.rankinchamber.com/events/details/rc-courtyard-marriott-10-29-2014-732
END:VEVENT

END:VCALENDAR
