BEGIN:VCALENDAR
VERSION:2.0
PRODID:-//ChamberMaster//Event Calendar 2.0//EN
METHOD:PUBLISH
X-PUBLISHED-TTL:P3D
REFRESH-INTERVAL:P3D
CALSCALE:GREGORIAN
BEGIN:VEVENT
DTSTART:20130709T150000Z
DTEND:20130709T160000Z
X-MICROSOFT-CDO-ALLDAYEVENT:FALSE
SUMMARY:RC: Dickey's Barbecue Pit
DESCRIPTION:Ribbon Cutting for Dickey's Barbecue Pit (268 Dogwood Blvd\, Flowood)
X-ALT-DESC;FMTTYPE=text/html:Ribbon Cutting for <strong>Dickey&#39\;s Barbecue Pit</strong> (268 Dogwood Blvd\, Flowood)
LOCATION:
UID:e.1412.419
SEQUENCE:3
DTSTAMP:20260423T044421Z
URL:https://business.rankinchamber.com/events/details/rc-dickey-s-barbecue-pit-07-09-2013-419
END:VEVENT

END:VCALENDAR
