BEGIN:VCALENDAR
VERSION:2.0
PRODID:-//ChamberMaster//Event Calendar 2.0//EN
METHOD:PUBLISH
X-PUBLISHED-TTL:P3D
REFRESH-INTERVAL:P3D
CALSCALE:GREGORIAN
BEGIN:VEVENT
DTSTART:20140515T121500Z
DTEND:20140515T124500Z
X-MICROSOFT-CDO-ALLDAYEVENT:FALSE
SUMMARY:RC: Drip Drop Coffee Shop
DESCRIPTION:RC: Drip Drop Coffee Shop (1055 Hwy 49 S\, Ste D\, Richland) Right after Auto Zone on right of heading South on Hwy 49
X-ALT-DESC;FMTTYPE=text/html:RC: Drip Drop Coffee Shop (1055 Hwy 49 S\, Ste D\, Richland) Right after Auto Zone on right of heading South on Hwy 49
LOCATION:
UID:e.1412.643
SEQUENCE:3
DTSTAMP:20260422T123644Z
URL:https://business.rankinchamber.com/events/details/rc-drip-drop-coffee-shop-05-15-2014-643
END:VEVENT

END:VCALENDAR
