BEGIN:VCALENDAR
VERSION:2.0
PRODID:-//ChamberMaster//Event Calendar 2.0//EN
METHOD:PUBLISH
X-PUBLISHED-TTL:P3D
REFRESH-INTERVAL:P3D
CALSCALE:GREGORIAN
BEGIN:VEVENT
DTSTART:20130509T200000Z
DTEND:20130509T210000Z
X-MICROSOFT-CDO-ALLDAYEVENT:FALSE
SUMMARY:RC: Edward Jones Investment\, Brandon
DESCRIPTION:RC: Edward Jones Investment ( 101 High Pointe Cove\, Ste A\, Brandon 39042 ) located next to Ott and Lee Funeral Home on HWY 80
X-ALT-DESC;FMTTYPE=text/html:RC: Edward Jones Investment ( 101 High Pointe Cove\, Ste A\, Brandon 39042 ) located next to Ott and Lee Funeral Home on HWY 80
LOCATION:
UID:e.1412.358
SEQUENCE:3
DTSTAMP:20260423T075439Z
URL:https://business.rankinchamber.com/events/details/rc-edward-jones-investment-brandon-05-09-2013-358
END:VEVENT

END:VCALENDAR
