BEGIN:VCALENDAR
VERSION:2.0
PRODID:-//ChamberMaster//Event Calendar 2.0//EN
METHOD:PUBLISH
X-PUBLISHED-TTL:P3D
REFRESH-INTERVAL:P3D
CALSCALE:GREGORIAN
BEGIN:VEVENT
DTSTART:20140909T200000Z
DTEND:20140909T210000Z
X-MICROSOFT-CDO-ALLDAYEVENT:FALSE
SUMMARY:RC: Elwood Staffing
DESCRIPTION:RC: Elwood Staffing (1149 Old Fannin Rd\, Suite 21\, Brandon)
X-ALT-DESC;FMTTYPE=text/html:RC: Elwood Staffing (1149 Old Fannin Rd\, Suite 21\, Brandon)
LOCATION:
UID:e.1412.704
SEQUENCE:3
DTSTAMP:20260422T060154Z
URL:https://business.rankinchamber.com/events/details/rc-elwood-staffing-09-09-2014-704
END:VEVENT

END:VCALENDAR
