BEGIN:VCALENDAR
VERSION:2.0
PRODID:-//ChamberMaster//Event Calendar 2.0//EN
METHOD:PUBLISH
X-PUBLISHED-TTL:P3D
REFRESH-INTERVAL:P3D
CALSCALE:GREGORIAN
BEGIN:VEVENT
DTSTART:20150410T143000Z
DTEND:20150410T150000Z
X-MICROSOFT-CDO-ALLDAYEVENT:FALSE
SUMMARY:RC: ESI Supply
DESCRIPTION:RC: ESI Supply (111 Aerosmith Drive\, Richland)
X-ALT-DESC;FMTTYPE=text/html:RC: ESI Supply (111 Aerosmith Drive\, Richland)
LOCATION:
UID:e.1412.1906
SEQUENCE:3
DTSTAMP:20260421T185129Z
URL:https://business.rankinchamber.com/events/details/rc-esi-supply-04-10-2015-1906
END:VEVENT

END:VCALENDAR
