BEGIN:VCALENDAR
VERSION:2.0
PRODID:-//ChamberMaster//Event Calendar 2.0//EN
METHOD:PUBLISH
X-PUBLISHED-TTL:P3D
REFRESH-INTERVAL:P3D
CALSCALE:GREGORIAN
BEGIN:VEVENT
DTSTART:20141202T160000Z
DTEND:20141202T170000Z
X-MICROSOFT-CDO-ALLDAYEVENT:FALSE
SUMMARY:RC: Essence Nails & Spa
DESCRIPTION:RC: Essence Nails & Spa (2155 Hwy 18\, Brandon) across from Home Depot
X-ALT-DESC;FMTTYPE=text/html:RC: Essence Nails &amp\; Spa (2155 Hwy 18\, Brandon) across from Home Depot
LOCATION:
UID:e.1412.765
SEQUENCE:3
DTSTAMP:20260422T012333Z
URL:https://business.rankinchamber.com/events/details/rc-essence-nails-spa-12-02-2014-765
END:VEVENT

END:VCALENDAR
