BEGIN:VCALENDAR
VERSION:2.0
PRODID:-//ChamberMaster//Event Calendar 2.0//EN
METHOD:PUBLISH
X-PUBLISHED-TTL:P3D
REFRESH-INTERVAL:P3D
CALSCALE:GREGORIAN
BEGIN:VEVENT
DTSTART:20140724T200000Z
DTEND:20140724T203000Z
X-MICROSOFT-CDO-ALLDAYEVENT:FALSE
SUMMARY:RC: Faith N Candy
DESCRIPTION:Ribbon Cutting:\n\nFaith N Candy (118 Service Drive\, Ste 5\, Brandon)  (in same shopping center as Mazzio's)
X-ALT-DESC;FMTTYPE=text/html:Ribbon Cutting:<br />\nFaith N Candy (118 Service Drive\, Ste 5\, Brandon) &nbsp\;(in same shopping center as Mazzio&#39\;s)
LOCATION:
UID:e.1412.672
SEQUENCE:3
DTSTAMP:20260422T092025Z
URL:https://business.rankinchamber.com/events/details/rc-faith-n-candy-07-24-2014-672
END:VEVENT

END:VCALENDAR
