BEGIN:VCALENDAR
VERSION:2.0
PRODID:-//ChamberMaster//Event Calendar 2.0//EN
METHOD:PUBLISH
X-PUBLISHED-TTL:P3D
REFRESH-INTERVAL:P3D
CALSCALE:GREGORIAN
BEGIN:VEVENT
DTSTART:20120608T153000Z
DTEND:20120608T170000Z
X-MICROSOFT-CDO-ALLDAYEVENT:FALSE
SUMMARY:RC: Five Elements Karate Masters
DESCRIPTION:RC: Five Elements Karate Masters\n\n4237 Lakeland Drive\, Flowood\, MS 39232
X-ALT-DESC;FMTTYPE=text/html:RC: Five Elements Karate Masters<br />\n4237 Lakeland Drive\, Flowood\, MS 39232
LOCATION:
UID:e.1412.147
SEQUENCE:3
DTSTAMP:20260422T012104Z
URL:https://business.rankinchamber.com/events/details/rc-five-elements-karate-masters-06-08-2012-147
END:VEVENT

END:VCALENDAR
