BEGIN:VCALENDAR
VERSION:2.0
PRODID:-//ChamberMaster//Event Calendar 2.0//EN
METHOD:PUBLISH
X-PUBLISHED-TTL:P3D
REFRESH-INTERVAL:P3D
CALSCALE:GREGORIAN
BEGIN:VEVENT
DTSTART:20130522T150000Z
DTEND:20130522T153000Z
X-MICROSOFT-CDO-ALLDAYEVENT:FALSE
SUMMARY:RC: Fresh Coat
DESCRIPTION:RC: Fresh Coat (1888 Main Street\, Madison 39110) - Ribbon Cutting will be held at the Rankin County Chamber of Commerce
X-ALT-DESC;FMTTYPE=text/html:RC: Fresh Coat (1888 Main Street\, Madison 39110) -&nbsp\;Ribbon Cutting will be held at the&nbsp\;Rankin County Chamber of Commerce
LOCATION:
UID:e.1412.380
SEQUENCE:3
DTSTAMP:20260423T075028Z
URL:https://business.rankinchamber.com/events/details/rc-fresh-coat-05-22-2013-380
END:VEVENT

END:VCALENDAR
