BEGIN:VCALENDAR
VERSION:2.0
PRODID:-//ChamberMaster//Event Calendar 2.0//EN
METHOD:PUBLISH
X-PUBLISHED-TTL:P3D
REFRESH-INTERVAL:P3D
CALSCALE:GREGORIAN
BEGIN:VEVENT
DTSTART:20150401T160000Z
DTEND:20150401T163000Z
X-MICROSOFT-CDO-ALLDAYEVENT:FALSE
SUMMARY:RC: Gaines Angus Farm
DESCRIPTION:RC: Gaines Angus Farm (Rankin Chamber\, 101 Service Drive\, Brandon)
X-ALT-DESC;FMTTYPE=text/html:RC: Gaines Angus Farm (Rankin Chamber\, 101 Service Drive\, Brandon)
LOCATION:
UID:e.1412.1898
SEQUENCE:3
DTSTAMP:20260421T185512Z
URL:https://business.rankinchamber.com/events/details/rc-gaines-angus-farm-04-01-2015-1898
END:VEVENT

END:VCALENDAR
