BEGIN:VCALENDAR
VERSION:2.0
PRODID:-//ChamberMaster//Event Calendar 2.0//EN
METHOD:PUBLISH
X-PUBLISHED-TTL:P3D
REFRESH-INTERVAL:P3D
CALSCALE:GREGORIAN
BEGIN:VEVENT
DTSTART:20130808T160000Z
DTEND:20130808T163000Z
X-MICROSOFT-CDO-ALLDAYEVENT:FALSE
SUMMARY:RC: Giddy Up
DESCRIPTION:Ribbon Cutting for:\n\nGiddy Up (135 W. Government St\, Brandon)
X-ALT-DESC;FMTTYPE=text/html:Ribbon Cutting for:<br />\nGiddy Up (135 W. Government St\, Brandon)
LOCATION:
UID:e.1412.456
SEQUENCE:3
DTSTAMP:20260423T032101Z
URL:https://business.rankinchamber.com/events/details/rc-giddy-up-08-08-2013-456
END:VEVENT

END:VCALENDAR
