BEGIN:VCALENDAR
VERSION:2.0
PRODID:-//ChamberMaster//Event Calendar 2.0//EN
METHOD:PUBLISH
X-PUBLISHED-TTL:P3D
REFRESH-INTERVAL:P3D
CALSCALE:GREGORIAN
BEGIN:VEVENT
DTSTART:20131025T154500Z
DTEND:20131025T164500Z
X-MICROSOFT-CDO-ALLDAYEVENT:FALSE
SUMMARY:RC/GO: Planet Donut
DESCRIPTION:Ribbon cutting and Grand Opening for:\n\nPlanet Donut (1291 W. Government St\, Brandon) (former Heart & Soul Diner location)
X-ALT-DESC;FMTTYPE=text/html:Ribbon cutting and Grand Opening for:<br />\nPlanet Donut (1291 W. Government St\, Brandon) (former Heart &amp\; Soul Diner location)
LOCATION:
UID:e.1412.505
SEQUENCE:3
DTSTAMP:20260422T233459Z
URL:https://business.rankinchamber.com/events/details/rc-go-planet-donut-10-25-2013-505
END:VEVENT

END:VCALENDAR
