BEGIN:VCALENDAR
VERSION:2.0
PRODID:-//ChamberMaster//Event Calendar 2.0//EN
METHOD:PUBLISH
X-PUBLISHED-TTL:P3D
REFRESH-INTERVAL:P3D
CALSCALE:GREGORIAN
BEGIN:VEVENT
DTSTART:20140911T210000Z
DTEND:20140912T010000Z
X-MICROSOFT-CDO-ALLDAYEVENT:FALSE
SUMMARY:RC/GO: Safelite AutoGlass
DESCRIPTION:RC/GO: Safelite AutoGlass (1039 Center Point\, Pearl)
X-ALT-DESC;FMTTYPE=text/html:RC/GO: Safelite AutoGlass&nbsp\;(1039 Center Point\, Pearl)
LOCATION:
UID:e.1412.707
SEQUENCE:3
DTSTAMP:20260422T060231Z
URL:https://business.rankinchamber.com/events/details/rc-go-safelite-autoglass-09-11-2014-707
END:VEVENT

END:VCALENDAR
